Workbook

Sheet 2022A Revised
I1: University System of Maryland | X1: University System of Maryland | AR1: University System of Maryland | BL1: University System of Maryland | CD1: University System of Maryland
I2: Distribution of Debt Services | X2: Distribution of Debt Services | AR2: Distribution of Debt Services | BL2: Distribution of Debt Services | CD2: Distribution of Debt Services
I3: 2022 Series A Bond Funded Projects | X3: 2022 Series A Bond Funded Projects | AR3: 2022 Series A Bond Funded Projects | BL3: 2022 Series A Bond Funded Projects | CD3: 2022 Series A Bond Funded Projects
A5: Payment | C5: Total Debt Services - 2022A | Q5: Total Facilities Renewal - 2022A | V5: UMCP N. Campus Dining Hall Replace (Aux) | AA5: UMCP Two New Residence Halls (Aux) | AF5: Total Academic Projects - 2022A | AK5: Total Auxiliary Projects - 2022A | AP5: UMCP High Rise Residence Halls (Aux) | AU5: UMES Natural Gas Conversion (Aux) | AZ5: UMB Facilities Renewal 42nd Amendment (Aux) | BE5: FSU Five Dorm Renovation (Auxiliary) | BJ5: TU Glen Towers & Addition & Renov (Auxiliary) | BO5: TU Union Addition/Renovation (Auxiliary) | BT5: TU 401 Washington Renovation (Auxiliary) | BY5: Debt Svc from Earnings\Accrued Int\Plant Fund | CD5: Debt Svc from Earnings\Accrued Int\Plant Fund | CI5: Debt Svc from Earnings\Accrued Int\Plant Fund
A6: Date | C6: 2022A - 30 Year Bond | F6: 2022A - 20 Year Bond | I6: 2022A - 10 Year Bond | L6: 2022A Bond - Total | Q6: 2022A - 10 Year Bond | W6: 30 Year Bond | AB6: 30 Year Bond | AF6: 20 Year Bond including 20-yr FR | AK6: 20 Year Bond | AQ6: 20 Year Bond | AV6: 20 Year Bond | BA6: 20 Year Bond | BF6: 20 Year Bond | BK6: 20 Year Bond | BP6: 20 Year Bond | BU6: 20 Year Bond | BZ6: 30 Year Bond | CE6: 20 Year Bond | CJ6: 10 Year Bond
E7: Amort of | H7: Amort of | K7: Amort of | O7: Amort of | T7: Amort of | V7: 0.4426357 | W7: 0.49710176 | X7: 0.50093742 | Y7: Amort of | AA7: 0.4920576 | AB7: 0.49205765 | AC7: 0.49205765 | AD7: Amort of | AH7: ='20-Year Acad Revised'!J6+'20-Year Fac Renewal Acad'!J6 -> 0.2638782 | AI7: Amort of | AK7: =+AZ7+BE7+BJ7+BO7+CD7+AP7+AU7+BT7 -> 1 | AL7: =+BA7+BF7+BK7+BP7+CE7+AQ7+AV7+BU7 -> 1 | AM7: =+BB7+BG7+BL7+BQ7+CF7+AR7+AW7+BV7 -> 0.7361218 | AN7: Amort of | AS7: Amort of | AW7: 0.007134843 | AX7: Amort of | AZ7: 0.049299214 | BA7: 0.051766702 | BB7: 0.056344599 | BC7: Amort of | BG7: 0.0022507153 | BH7: Amort of | BL7: 0.047136646 | BM7: Amort of | BQ7: 0.0072046273 | BR7: Amort of | BV7: 0 | BW7: Amort of | BY7: 0.065306665 | BZ7: 0.010840597 | CA7: 0.00700493 | CB7: Amort of | CD7: 0.95070079 | CE7: 0.9482333 | CF7: 0.61605037 | CG7: Amort of | CI7: 0.50176832 | CJ7: 0.13472001 | CK7: Done | CL7: Amort of
E8: Premium | H8: Premium | K8: Premium | O8: Premium | T8: Premium | V8: 0.50794235 | Y8: Premium | AA8: 0.49205765 | AD8: Premium | AF8: ='20-Year Acad Revised'!H7+'20-Year Fac Renewal Acad'!H7 -> 0.65533056 | AG8: ='20-Year Acad Revised'!I7+'20-Year Fac Renewal Acad'!I7 -> 0.71249468 | AI8: Premium | AK8: =+BE8+BJ8+BO8+CD8+AP8+AU8+BT8 -> 0.34466933 | AL8: =+BF8+BK8+BP8+CE8+AQ8+AV8+BU8 -> 0.28750532 | AN8: Premium | AP8: 0.00019683175 | AQ8: 0.00019657021 | AS8: Premium | AU8: 0.009195273 | AV8: 0.0091830548 | AX8: Premium | AZ8: Early Payoff-Complete | BC8: Premium | BE8: 0.0030216227 | BF8: 0.0030550579 | BH8: Premium | BJ8: 0.2000596 | BK8: 0.21268526 | BM8: Premium | BO8: 0.056156897 | BP8: 0.056333435 | BR8: Premium | BT8: 0 | BU8: 0.0013640376 | BW8: Premium | BY8: Done | CB8: Premium | CD8: =7.1345%+0.46941% -> 0.0760391 | CE8: 0.0046879036 | CG8: Premium | CL8: Premium
C9: Principal | D9: Interest | E9: Total | F9: Principal | G9: Interest | H9: Total | I9: Principal | J9: Interest | K9: Total | L9: Principal-Total | M9: Interest-Total | N9: Total | O9: Total | Q9: Principal | R9: Interest | S9: Total | T9: Total | V9: Principal | W9: Interest | X9: Total | Y9: Total | AA9: Principal | AB9: Interest | AC9: Total | AD9: Total | AF9: Principal | AG9: Interest | AH9: Total | AI9: Total | AK9: Principal | AL9: Interest | AM9: Total | AN9: Total | AP9: Principal | AQ9: Interest | AR9: Total | AS9: Total | AU9: Principal | AV9: Interest | AW9: Total | AX9: Total | AZ9: Principal | BA9: Interest | BB9: Total | BC9: Total | BE9: Principal | BF9: Interest | BG9: Total | BH9: Total | BJ9: Principal | BK9: Interest | BL9: Total | BM9: Total | BO9: Principal | BP9: Interest | BQ9: Total | BR9: Total | BT9: Principal | BU9: Interest | BV9: Total | BW9: Total | BY9: Principal | BZ9: Interest | CA9: Total | CB9: Total | CD9: Principal | CE9: Interest | CF9: Total | CG9: Total | CI9: Principal | CJ9: Interest | CK9: Total | CL9: Total
A10: 45200 | D10: 790375 | E10: =97157-19 -> 97138 | G10: 660450 | H10: =112831-11 -> 112820 | J10: 482875 | K10: =129308-7 -> 129301 | M10: =D10+G10+J10 -> 1933700 | N10: =L10+M10 -> 1933700 | O10: =E10+H10+K10 -> 339259 | R10: ='10-Year Fac Renewal Revised'!I9 -> 482875 | S10: =Q10+R10 -> 482875 | T10: ='10-Year Fac Renewal Revised'!K9 -> 129301 | W10: =D10*X7 -> 395928.42 | X10: =V10+W10 -> 395928.42 | Y10: =X$7*$E10 -> 48660.059 | AB10: =D10*AC7 -> 388910.06 | AC10: =AA10+AB10 -> 388910.06 | AD10: =AC$7*$E10 -> 47797.496 | AF10: ='20-Year Acad Revised'!H9+'20-Year Fac Renewal Acad'!H9 -> 0 | AG10: ='20-Year Acad Revised'!I9+'20-Year Fac Renewal Acad'!I9 -> 174278.36 | AH10: =AF10+AG10 -> 174278.36 | AI10: ='20-Year Acad Revised'!K9+'20-Year Fac Renewal Acad'!K9 -> 29770.739 | AL10: =+BA10+BF10+BK10+BP10+CE10+BU10+AQ10+AV10 -> 486171.64 | AM10: =AK10+AL10 -> 486171.64 | AN10: =+BC10+BH10+BM10+BR10+CG10+BW10+AS10+AX10 -> 83049.261 | AR10: =AP10+AQ10 -> 0 | AS10: =AR$7*$H10 -> 0 | AV10: =G10*AW7 -> 4712.2071 | AW10: =AU10+AV10 -> 4712.2071 | AX10: =AW$7*$H10 -> 804.95299 | BA10: =G10*BB7 -> 37212.791 | BB10: =AZ10+BA10 -> 37212.791 | BC10: =BB$7*$H10 -> 6356.7977 | BF10: =G10*BG7 -> 1486.4849 | BG10: =BE10+BF10 -> 1486.4849 | BH10: =BG$7*$H10 -> 253.92569 | BK10: =G10*BL7 -> 31131.398 | BL10: =BJ10+BK10 -> 31131.398 | BM10: =BL$7*$H10 -> 5317.9564 | BP10: =G10*BQ7 -> 4758.2961 | BQ10: =BO10+BP10 -> 4758.2961 | BR10: =BQ$7*$H10 -> 812.82605 | BV10: =BT10+BU10 -> 0 | BW10: =BV$7*$H10 -> 0 | BZ10: =D10*CA7 -> 5536.5216 | CA10: =BY10+BZ10 -> 5536.5216 | CB10: =CA$7*$H10 -> 790.29621 | CE10: =G10*CF7 -> 406870.47 | CF10: =CD10+CE10 -> 406870.47 | CG10: =CF$7*$H10 -> 69502.803
A11: 45383 | C11: 890000 | D11: 790375 | E11: 97157 | F11: 1195000 | G11: 660450 | H11: 112831 | I11: 1750000 | J11: 482875 | K11: 129308 | L11: =C11+F11+I11 -> 3835000 | M11: =D11+G11+J11 -> 1933700 | N11: =L11+M11 -> 5768700 | O11: =E11+H11+K11 -> 339296 | Q11: ='10-Year Fac Renewal Revised'!H10 -> 1750000 | R11: ='10-Year Fac Renewal Revised'!I10 -> 482875 | S11: =Q11+R11 -> 2232875 | T11: ='10-Year Fac Renewal Revised'!K10 -> 129308 | V11: =C11*$V$8 -> 452068.69 | W11: =D11*$V$8 -> 401464.94 | X11: =V11+W11 -> 853533.63 | Y11: =V$8*$E11 -> 49350.155 | AA11: =C11*$AA$8 -> 437931.31 | AB11: =D11*$AA$8 -> 388910.06 | AC11: =AA11+AB11 -> 826841.37 | AD11: =AA$8*$E11 -> 47806.845 | AF11: ='20-Year Acad Revised'!H10+'20-Year Fac Renewal Acad'!H10 -> 783120.02 | AG11: ='20-Year Acad Revised'!I10+'20-Year Fac Renewal Acad'!I10 -> 432813.07 | AH11: =AF11+AG11 -> 1215933.1 | AI11: ='20-Year Acad Revised'!K10+'20-Year Fac Renewal Acad'!K10 -> 73941.602 | AK11: =+AZ11+BE11+BJ11+BO11+CD11+BT11+AP11+AU11 -> 411879.85 | AL11: =+BA11+BF11+BK11+BP11+CE11+BU11+AQ11+AV11 -> 227636.86 | AM11: =AK11+AL11 -> 639516.71 | AN11: =+BC11+BH11+BM11+BR11+CG11+BW11+AS11+AX11 -> 38889.385 | AP11: =F11*$AP$8 -> 235.21394 | AQ11: =G11*$AP$8 -> 129.99753 | AR11: =AP11+AQ11 -> 365.21147 | AS11: =AP$8*$H11 -> 22.208723 | AU11: =F11*$AU$8 -> 10988.351 | AV11: =G11*$AU$8 -> 6073.0181 | AW11: =AU11+AV11 -> 17061.369 | AX11: =AU$8*$H11 -> 1037.5118 | BE11: =F11*$BE$8 -> 3610.8392 | BF11: =G11*$BE$8 -> 1995.6307 | BG11: =BE11+BF11 -> 5606.4699 | BH11: =BE$8*$H11 -> 340.93272 | BJ11: =F11*$BJ$8 -> 239071.23 | BK11: =G11*$BJ$8 -> 132129.37 | BL11: =BJ11+BK11 -> 371200.59 | BM11: =BJ$8*$H11 -> 22572.925 | BO11: =F11*$BO$8 -> 67107.493 | BP11: =G11*$BO$8 -> 37088.823 | BQ11: =BO11+BP11 -> 104196.32 | BR11: =BO$8*$H11 -> 6336.2389 | BV11: =BT11+BU11 -> 0 | BW11: =BT$8*$H11 -> 0 | CD11: =F11*CD8 -> 90866.724 | CE11: =G11*CD8 -> 50220.024 | CF11: =CD11+CE11 -> 141086.75 | CG11: =CD$8*$H11 -> 8579.5677 | CL11: =CI$8*$H11 -> 0
A12: 45566 | D12: 768125 | E12: 97157 | G12: 630575 | H12: 112831 | J12: 439125 | K12: 129308 | M12: =D12+G12+J12 -> 1837825 | N12: =L12+M12 -> 1837825 | O12: =E12+H12+K12 -> 339296 | R12: ='10-Year Fac Renewal Revised'!I11 -> 439125 | S12: =Q12+R12 -> 439125 | T12: ='10-Year Fac Renewal Revised'!K11 -> 129308 | W12: =D12*$V$8 -> 390163.22 | X12: =V12+W12 -> 390163.22 | Y12: =V$8*$E12 -> 49350.155 | AB12: =D12*$AA$8 -> 377961.78 | AC12: =AA12+AB12 -> 377961.78 | AD12: =AA$8*$E12 -> 47806.845 | AG12: ='20-Year Acad Revised'!I11+'20-Year Fac Renewal Acad'!I11 -> 449281.33 | AH12: =AF12+AG12 -> 449281.33 | AI12: ='20-Year Acad Revised'!K11+'20-Year Fac Renewal Acad'!K11 -> 80391.487 | AL12: =+BA12+CE12+BF12+BK12+BP12+BU12+AQ12+AV12 -> 181293.67 | AM12: =AK12+AL12 -> 181293.67 | AN12: =+BC12+CG12+BH12+BM12+BR12+BW12+AS12+AX12 -> 32439.513 | AQ12: =G12*$AQ$8 -> 123.95226 | AR12: =AP12+AQ12 -> 123.95226 | AS12: =AQ$8*$H12 -> 22.179213 | AV12: =G12*$AV$8 -> 5790.6048 | AW12: =AU12+AV12 -> 5790.6048 | AX12: =AV$8*$H12 -> 1036.1333 | BF12: =G12*$BF$8 -> 1926.4432 | BG12: =BE12+BF12 -> 1926.4432 | BH12: =BF$8*$H12 -> 344.70524 | BK12: =G12*$BK$8 -> 134114.01 | BL12: =BJ12+BK12 -> 134114.01 | BM12: =BK$8*$H12 -> 23997.491 | BP12: =G12*$BP$8 -> 35522.456 | BQ12: =BO12+BP12 -> 35522.456 | BR12: =BP$8*$H12 -> 6356.1579 | BU12: =G12*$BU$8 -> 860.12802 | BV12: =BT12+BU12 -> 860.12802 | BW12: =BU$8*$H12 -> 153.90573 | CE12: =G12*$CE$8 -> 2956.0748 | CF12: =CD12+CE12 -> 2956.0748 | CG12: =CE$8*$H12 -> 528.94086 | CL12: =CJ$8*$H12 -> 0
A13: 45748 | C13: 935000 | D13: 768125 | E13: 97157 | F13: 1255000 | G13: 630575 | H13: 112831 | I13: 1840000 | J13: 439125 | K13: 129308 | L13: =C13+F13+I13 -> 4030000 | M13: =D13+G13+J13 -> 1837825 | N13: =L13+M13 -> 5867825 | O13: =E13+H13+K13 -> 339296 | Q13: ='10-Year Fac Renewal Revised'!H12 -> 1840000 | R13: ='10-Year Fac Renewal Revised'!I12 -> 439125 | S13: =Q13+R13 -> 2279125 | T13: ='10-Year Fac Renewal Revised'!K12 -> 129308 | V13: =C13*$V$8 -> 474926.1 | W13: =D13*$V$8 -> 390163.22 | X13: =V13+W13 -> 865089.32 | Y13: =V$8*$E13 -> 49350.155 | AA13: =C13*$AA$8 -> 460073.9 | AB13: =D13*$AA$8 -> 377961.78 | AC13: =AA13+AB13 -> 838035.68 | AD13: =AA$8*$E13 -> 47806.845 | AF13: ='20-Year Acad Revised'!H12+'20-Year Fac Renewal Acad'!H12 -> 894180.82 | AG13: ='20-Year Acad Revised'!I12+'20-Year Fac Renewal Acad'!I12 -> 449281.33 | AH13: =AF13+AG13 -> 1343462.2 | AI13: ='20-Year Acad Revised'!K12+'20-Year Fac Renewal Acad'!K12 -> 80391.487 | AK13: =+AZ13+CD13+BE13+BJ13+BO13+BT13+AP13+AU13 -> 360819.18 | AL13: =+BA13+CE13+BF13+BK13+BP13+BU13+AQ13+AV13 -> 181293.67 | AM13: =AK13+AL13 -> 542112.85 | AN13: =+BC13+CG13+BH13+BM13+BR13+BW13+AS13+AX13 -> 32439.513 | AP13: =F13*$AQ$8 -> 246.69561 | AQ13: =G13*$AQ$8 -> 123.95226 | AR13: =AP13+AQ13 -> 370.64787 | AS13: =AQ$8*$H13 -> 22.179213 | AU13: =F13*$AV$8 -> 11524.734 | AV13: =G13*$AV$8 -> 5790.6048 | AW13: =AU13+AV13 -> 17315.338 | AX13: =AV$8*$H13 -> 1036.1333 | BE13: =F13*$BF$8 -> 3834.0977 | BF13: =G13*$BF$8 -> 1926.4432 | BG13: =BE13+BF13 -> 5760.5409 | BH13: =BF$8*$H13 -> 344.70524 | BJ13: =F13*$BK$8 -> 266920.01 | BK13: =G13*$BK$8 -> 134114.01 | BL13: =BJ13+BK13 -> 401034.02 | BM13: =BK$8*$H13 -> 23997.491 | BO13: =F13*$BP$8 -> 70698.462 | BP13: =G13*$BP$8 -> 35522.456 | BQ13: =BO13+BP13 -> 106220.92 | BR13: =BP$8*$H13 -> 6356.1579 | BT13: =F13*$BU$8 -> 1711.8672 | BU13: =G13*$BU$8 -> 860.12802 | BV13: =BT13+BU13 -> 2571.9952 | BW13: =BU$8*$H13 -> 153.90573 | CD13: =F13*$CE$8 -> 5883.3191 | CE13: =G13*$CE$8 -> 2956.0748 | CF13: =CD13+CE13 -> 8839.3939 | CG13: =CE$8*$H13 -> 528.94086 | CL13: =CJ$8*$H13 -> 0
A14: 45931 | D14: 744750 | E14: 97157 | G14: 599200 | H14: 112831 | J14: 393125 | K14: 129308 | M14: =D14+G14+J14 -> 1737075 | N14: =L14+M14 -> 1737075 | O14: =E14+H14+K14 -> 339296 | R14: ='10-Year Fac Renewal Revised'!I13 -> 393125 | S14: =Q14+R14 -> 393125 | T14: ='10-Year Fac Renewal Revised'!K13 -> 129308 | W14: =D14*$V$8 -> 378290.07 | X14: =V14+W14 -> 378290.07 | Y14: =V$8*$E14 -> 49350.155 | AB14: =D14*$AA$8 -> 366459.93 | AC14: =AA14+AB14 -> 366459.93 | AD14: =AA$8*$E14 -> 47806.845 | AG14: ='20-Year Acad Revised'!I13+'20-Year Fac Renewal Acad'!I13 -> 426926.81 | AH14: =AF14+AG14 -> 426926.81 | AI14: ='20-Year Acad Revised'!K13+'20-Year Fac Renewal Acad'!K13 -> 80391.487 | AL14: =+BA14+CE14+BF14+BK14+BP14+BU14+AQ14+AV14 -> 172273.19 | AM14: =AK14+AL14 -> 172273.19 | AN14: =+BC14+CG14+BH14+BM14+BR14+BW14+AS14+AX14 -> 32439.513 | AQ14: =G14*$AQ$8 -> 117.78487 | AR14: =AP14+AQ14 -> 117.78487 | AS14: =AQ$8*$H14 -> 22.179213 | AV14: =G14*$AV$8 -> 5502.4864 | AW14: =AU14+AV14 -> 5502.4864 | AX14: =AV$8*$H14 -> 1036.1333 | BF14: =G14*$BF$8 -> 1830.5907 | BG14: =BE14+BF14 -> 1830.5907 | BH14: =BF$8*$H14 -> 344.70524 | BK14: =G14*$BK$8 -> 127441.01 | BL14: =BJ14+BK14 -> 127441.01 | BM14: =BK$8*$H14 -> 23997.491 | BP14: =G14*$BP$8 -> 33754.995 | BQ14: =BO14+BP14 -> 33754.995 | BR14: =BP$8*$H14 -> 6356.1579 | BU14: =G14*$BU$8 -> 817.33134 | BV14: =BT14+BU14 -> 817.33134 | BW14: =BU$8*$H14 -> 153.90573 | CE14: =G14*$CE$8 -> 2808.9919 | CF14: =CD14+CE14 -> 2808.9919 | CG14: =CE$8*$H14 -> 528.94086 | CL14: =CJ$8*$H14 -> 0
A15: 46113 | C15: 980000 | D15: 744750 | E15: 97157 | F15: 1320000 | G15: 599200 | H15: 112831 | I15: 1930000 | J15: 393125 | K15: 129308 | L15: =C15+F15+I15 -> 4230000 | M15: =D15+G15+J15 -> 1737075 | N15: =L15+M15 -> 5967075 | O15: =E15+H15+K15 -> 339296 | Q15: ='10-Year Fac Renewal Revised'!H14 -> 1930000 | R15: ='10-Year Fac Renewal Revised'!I14 -> 393125 | S15: =Q15+R15 -> 2323125 | T15: ='10-Year Fac Renewal Revised'!K14 -> 129308 | V15: =C15*$V$8 -> 497783.5 | W15: =D15*$V$8 -> 378290.07 | X15: =V15+W15 -> 876073.57 | Y15: =V$8*$E15 -> 49350.155 | AA15: =C15*$AA$8 -> 482216.5 | AB15: =D15*$AA$8 -> 366459.93 | AC15: =AA15+AB15 -> 848676.43 | AD15: =AA$8*$E15 -> 47806.845 | AF15: ='20-Year Acad Revised'!H14+'20-Year Fac Renewal Acad'!H14 -> 940492.97 | AG15: ='20-Year Acad Revised'!I14+'20-Year Fac Renewal Acad'!I14 -> 426926.81 | AH15: =AF15+AG15 -> 1367419.8 | AI15: ='20-Year Acad Revised'!K14+'20-Year Fac Renewal Acad'!K14 -> 80391.487 | AK15: =+AZ15+CD15+BE15+BJ15+BO15+BT15+AP15+AU15 -> 379507.03 | AL15: =+BA15+CE15+BF15+BK15+BP15+BU15+AQ15+AV15 -> 172273.19 | AM15: =AK15+AL15 -> 551780.22 | AN15: =+BC15+CG15+BH15+BM15+BR15+BW15+AS15+AX15 -> 32439.513 | AP15: =F15*$AQ$8 -> 259.47268 | AQ15: =G15*$AQ$8 -> 117.78487 | AR15: =AP15+AQ15 -> 377.25755 | AS15: =AQ$8*$H15 -> 22.179213 | AU15: =F15*$AV$8 -> 12121.632 | AV15: =G15*$AV$8 -> 5502.4864 | AW15: =AU15+AV15 -> 17624.119 | AX15: =AV$8*$H15 -> 1036.1333 | BE15: =F15*$BF$8 -> 4032.6765 | BF15: =G15*$BF$8 -> 1830.5907 | BG15: =BE15+BF15 -> 5863.2672 | BH15: =BF$8*$H15 -> 344.70524 | BJ15: =F15*$BK$8 -> 280744.55 | BK15: =G15*$BK$8 -> 127441.01 | BL15: =BJ15+BK15 -> 408185.56 | BM15: =BK$8*$H15 -> 23997.491 | BO15: =F15*$BP$8 -> 74360.135 | BP15: =G15*$BP$8 -> 33754.995 | BQ15: =BO15+BP15 -> 108115.13 | BR15: =BP$8*$H15 -> 6356.1579 | BT15: =F15*$BU$8 -> 1800.5297 | BU15: =G15*$BU$8 -> 817.33134 | BV15: =BT15+BU15 -> 2617.861 | BW15: =BU$8*$H15 -> 153.90573 | CD15: =F15*$CE$8 -> 6188.0328 | CE15: =G15*$CE$8 -> 2808.9919 | CF15: =CD15+CE15 -> 8997.0247 | CG15: =CE$8*$H15 -> 528.94086 | CL15: =CJ$8*$H15 -> 0
A16: 46296 | D16: 720250 | E16: 97157 | G16: 566200 | H16: 112831 | J16: 344875 | K16: 129308 | M16: =D16+G16+J16 -> 1631325 | N16: =L16+M16 -> 1631325 | O16: =E16+H16+K16 -> 339296 | R16: ='10-Year Fac Renewal Revised'!I15 -> 344875 | S16: =Q16+R16 -> 344875 | T16: ='10-Year Fac Renewal Revised'!K15 -> 129308 | W16: =D16*$V$8 -> 365845.48 | X16: =V16+W16 -> 365845.48 | Y16: =V$8*$E16 -> 49350.155 | AB16: =D16*$AA$8 -> 354404.52 | AC16: =AA16+AB16 -> 354404.52 | AD16: =AA$8*$E16 -> 47806.845 | AG16: ='20-Year Acad Revised'!I15+'20-Year Fac Renewal Acad'!I15 -> 403414.49 | AH16: =AF16+AG16 -> 403414.49 | AI16: ='20-Year Acad Revised'!K15+'20-Year Fac Renewal Acad'!K15 -> 80391.487 | AL16: =+BA16+CE16+BF16+BK16+BP16+BU16+AQ16+AV16 -> 162785.51 | AM16: =AK16+AL16 -> 162785.51 | AN16: =+BC16+CG16+BH16+BM16+BR16+BW16+AS16+AX16 -> 32439.513 | AQ16: =G16*$AQ$8 -> 111.29805 | AR16: =AP16+AQ16 -> 111.29805 | AS16: =AQ$8*$H16 -> 22.179213 | AV16: =G16*$AV$8 -> 5199.4456 | AW16: =AU16+AV16 -> 5199.4456 | AX16: =AV$8*$H16 -> 1036.1333 | BF16: =G16*$BF$8 -> 1729.7738 | BG16: =BE16+BF16 -> 1729.7738 | BH16: =BF$8*$H16 -> 344.70524 | BK16: =G16*$BK$8 -> 120422.4 | BL16: =BJ16+BK16 -> 120422.4 | BM16: =BK$8*$H16 -> 23997.491 | BP16: =G16*$BP$8 -> 31895.991 | BQ16: =BO16+BP16 -> 31895.991 | BR16: =BP$8*$H16 -> 6356.1579 | BU16: =G16*$BU$8 -> 772.3181 | BV16: =BT16+BU16 -> 772.3181 | BW16: =BU$8*$H16 -> 153.90573 | CE16: =G16*$CE$8 -> 2654.291 | CF16: =CD16+CE16 -> 2654.291 | CG16: =CE$8*$H16 -> 528.94086 | CL16: =CJ$8*$H16 -> 0
A17: 46478 | C17: 1030000 | D17: 720250 | E17: 97157 | F17: 1385000 | G17: 566200 | H17: 112831 | I17: 2030000 | J17: 344875 | K17: 129308 | L17: =C17+F17+I17 -> 4445000 | M17: =D17+G17+J17 -> 1631325 | N17: =L17+M17 -> 6076325 | O17: =E17+H17+K17 -> 339296 | Q17: ='10-Year Fac Renewal Revised'!H16 -> 2030000 | R17: ='10-Year Fac Renewal Revised'!I16 -> 344875 | S17: =Q17+R17 -> 2374875 | T17: ='10-Year Fac Renewal Revised'!K16 -> 129308 | V17: =C17*$V$8 -> 523180.62 | W17: =D17*$V$8 -> 365845.48 | X17: =V17+W17 -> 889026.1 | Y17: =V$8*$E17 -> 49350.155 | AA17: =C17*$AA$8 -> 506819.38 | AB17: =D17*$AA$8 -> 354404.52 | AC17: =AA17+AB17 -> 861223.9 | AD17: =AA$8*$E17 -> 47806.845 | AF17: ='20-Year Acad Revised'!H16+'20-Year Fac Renewal Acad'!H16 -> 986805.13 | AG17: ='20-Year Acad Revised'!I16+'20-Year Fac Renewal Acad'!I16 -> 403414.49 | AH17: =AF17+AG17 -> 1390219.6 | AI17: ='20-Year Acad Revised'!K16+'20-Year Fac Renewal Acad'!K16 -> 80391.487 | AK17: =+AZ17+CD17+BE17+BJ17+BO17+BT17+AP17+AU17 -> 398194.87 | AL17: =+BA17+CE17+BF17+BK17+BP17+BU17+AQ17+AV17 -> 162785.51 | AM17: =AK17+AL17 -> 560980.39 | AN17: =+BC17+CG17+BH17+BM17+BR17+BW17+AS17+AX17 -> 32439.513 | AP17: =F17*$AQ$8 -> 272.24974 | AQ17: =G17*$AQ$8 -> 111.29805 | AR17: =AP17+AQ17 -> 383.54779 | AS17: =AQ$8*$H17 -> 22.179213 | AU17: =F17*$AV$8 -> 12718.531 | AV17: =G17*$AV$8 -> 5199.4456 | AW17: =AU17+AV17 -> 17917.976 | AX17: =AV$8*$H17 -> 1036.1333 | BE17: =F17*$BF$8 -> 4231.2552 | BF17: =G17*$BF$8 -> 1729.7738 | BG17: =BE17+BF17 -> 5961.029 | BH17: =BF$8*$H17 -> 344.70524 | BJ17: =F17*$BK$8 -> 294569.09 | BK17: =G17*$BK$8 -> 120422.4 | BL17: =BJ17+BK17 -> 414991.49 | BM17: =BK$8*$H17 -> 23997.491 | BO17: =F17*$BP$8 -> 78021.808 | BP17: =G17*$BP$8 -> 31895.991 | BQ17: =BO17+BP17 -> 109917.8 | BR17: =BP$8*$H17 -> 6356.1579 | BT17: =F17*$BU$8 -> 1889.1921 | BU17: =G17*$BU$8 -> 772.3181 | BV17: =BT17+BU17 -> 2661.5102 | BW17: =BU$8*$H17 -> 153.90573 | CD17: =F17*$CE$8 -> 6492.7466 | CE17: =G17*$CE$8 -> 2654.291 | CF17: =CD17+CE17 -> 9147.0376 | CG17: =CE$8*$H17 -> 528.94086 | CL17: =CJ$8*$H17 -> 0
A18: 46661 | D18: 694500 | E18: 97157 | G18: 531575 | H18: 112831 | J18: 294125 | K18: 129308 | M18: =D18+G18+J18 -> 1520200 | N18: =L18+M18 -> 1520200 | O18: =E18+H18+K18 -> 339296 | R18: ='10-Year Fac Renewal Revised'!I17 -> 294125 | S18: =Q18+R18 -> 294125 | T18: ='10-Year Fac Renewal Revised'!K17 -> 129308 | W18: =D18*$V$8 -> 352765.96 | X18: =V18+W18 -> 352765.96 | Y18: =V$8*$E18 -> 49350.155 | AB18: =D18*$AA$8 -> 341734.04 | AC18: =AA18+AB18 -> 341734.04 | AD18: =AA$8*$E18 -> 47806.845 | AG18: ='20-Year Acad Revised'!I17+'20-Year Fac Renewal Acad'!I17 -> 378744.36 | AH18: =AF18+AG18 -> 378744.36 | AI18: ='20-Year Acad Revised'!K17+'20-Year Fac Renewal Acad'!K17 -> 80391.487 | AL18: =+BA18+CE18+BF18+BK18+BP18+BU18+AQ18+AV18 -> 152830.64 | AM18: =AK18+AL18 -> 152830.64 | AN18: =+BC18+CG18+BH18+BM18+BR18+BW18+AS18+AX18 -> 32439.513 | AQ18: =G18*$AQ$8 -> 104.49181 | AR18: =AP18+AQ18 -> 104.49181 | AS18: =AQ$8*$H18 -> 22.179213 | AV18: =G18*$AV$8 -> 4881.4823 | AW18: =AU18+AV18 -> 4881.4823 | AX18: =AV$8*$H18 -> 1036.1333 | BF18: =G18*$BF$8 -> 1623.9924 | BG18: =BE18+BF18 -> 1623.9924 | BH18: =BF$8*$H18 -> 344.70524 | BK18: =G18*$BK$8 -> 113058.17 | BL18: =BJ18+BK18 -> 113058.17 | BM18: =BK$8*$H18 -> 23997.491 | BP18: =G18*$BP$8 -> 29945.446 | BQ18: =BO18+BP18 -> 29945.446 | BR18: =BP$8*$H18 -> 6356.1579 | BU18: =G18*$BU$8 -> 725.0883 | BV18: =BT18+BU18 -> 725.0883 | BW18: =BU$8*$H18 -> 153.90573 | CE18: =G18*$CE$8 -> 2491.9724 | CF18: =CD18+CE18 -> 2491.9724 | CG18: =CE$8*$H18 -> 528.94086 | CL18: =CJ$8*$H18 -> 0
A19: 46844 | C19: 1080000 | D19: 694500 | E19: 97157 | F19: 1455000 | G19: 531575 | H19: 112831 | I19: 2130000 | J19: 294125 | K19: 129308 | L19: =C19+F19+I19 -> 4665000 | M19: =D19+G19+J19 -> 1520200 | N19: =L19+M19 -> 6185200 | O19: =E19+H19+K19 -> 339296 | Q19: ='10-Year Fac Renewal Revised'!H18 -> 2130000 | R19: ='10-Year Fac Renewal Revised'!I18 -> 294125 | S19: =Q19+R19 -> 2424125 | T19: ='10-Year Fac Renewal Revised'!K18 -> 129308 | V19: =C19*$V$8 -> 548577.74 | W19: =D19*$V$8 -> 352765.96 | X19: =V19+W19 -> 901343.7 | Y19: =V$8*$E19 -> 49350.155 | AA19: =C19*$AA$8 -> 531422.26 | AB19: =D19*$AA$8 -> 341734.04 | AC19: =AA19+AB19 -> 873156.3 | AD19: =AA$8*$E19 -> 47806.845 | AF19: ='20-Year Acad Revised'!H18+'20-Year Fac Renewal Acad'!H18 -> 1036679.8 | AG19: ='20-Year Acad Revised'!I18+'20-Year Fac Renewal Acad'!I18 -> 378744.36 | AH19: =AF19+AG19 -> 1415424.1 | AI19: ='20-Year Acad Revised'!K18+'20-Year Fac Renewal Acad'!K18 -> 80391.487 | AK19: =+AZ19+CD19+BE19+BJ19+BO19+BT19+AP19+AU19 -> 418320.25 | AL19: =+BA19+CE19+BF19+BK19+BP19+BU19+AQ19+AV19 -> 152830.64 | AM19: =AK19+AL19 -> 571150.89 | AN19: =+BC19+CG19+BH19+BM19+BR19+BW19+AS19+AX19 -> 32439.513 | AP19: =F19*$AQ$8 -> 286.00965 | AQ19: =G19*$AQ$8 -> 104.49181 | AR19: =AP19+AQ19 -> 390.50146 | AS19: =AQ$8*$H19 -> 22.179213 | AU19: =F19*$AV$8 -> 13361.345 | AV19: =G19*$AV$8 -> 4881.4823 | AW19: =AU19+AV19 -> 18242.827 | AX19: =AV$8*$H19 -> 1036.1333 | BE19: =F19*$BF$8 -> 4445.1093 | BF19: =G19*$BF$8 -> 1623.9924 | BG19: =BE19+BF19 -> 6069.1017 | BH19: =BF$8*$H19 -> 344.70524 | BJ19: =F19*$BK$8 -> 309457.06 | BK19: =G19*$BK$8 -> 113058.17 | BL19: =BJ19+BK19 -> 422515.23 | BM19: =BK$8*$H19 -> 23997.491 | BO19: =F19*$BP$8 -> 81965.149 | BP19: =G19*$BP$8 -> 29945.446 | BQ19: =BO19+BP19 -> 111910.59 | BR19: =BP$8*$H19 -> 6356.1579 | BT19: =F19*$BU$8 -> 1984.6747 | BU19: =G19*$BU$8 -> 725.0883 | BV19: =BT19+BU19 -> 2709.763 | BW19: =BU$8*$H19 -> 153.90573 | CD19: =F19*$CE$8 -> 6820.8998 | CE19: =G19*$CE$8 -> 2491.9724 | CF19: =CD19+CE19 -> 9312.8722 | CG19: =CE$8*$H19 -> 528.94086 | CL19: =CJ$8*$H19 -> 0
A20: 47027 | D20: 667500 | E20: 97157 | G20: 495200 | H20: 112831 | J20: 240875 | K20: 129308 | M20: =D20+G20+J20 -> 1403575 | N20: =L20+M20 -> 1403575 | O20: =E20+H20+K20 -> 339296 | R20: ='10-Year Fac Renewal Revised'!I19 -> 240875 | S20: =Q20+R20 -> 240875 | T20: ='10-Year Fac Renewal Revised'!K19 -> 129308 | W20: =D20*$V$8 -> 339051.52 | X20: =V20+W20 -> 339051.52 | Y20: =V$8*$E20 -> 49350.155 | AB20: =D20*$AA$8 -> 328448.48 | AC20: =AA20+AB20 -> 328448.48 | AD20: =AA$8*$E20 -> 47806.845 | AG20: ='20-Year Acad Revised'!I19+'20-Year Fac Renewal Acad'!I19 -> 352827.36 | AH20: =AF20+AG20 -> 352827.36 | AI20: ='20-Year Acad Revised'!K19+'20-Year Fac Renewal Acad'!K19 -> 80391.487 | AL20: =+BA20+CE20+BF20+BK20+BP20+BU20+AQ20+AV20 -> 142372.64 | AM20: =AK20+AL20 -> 142372.64 | AN20: =+BC20+CG20+BH20+BM20+BR20+BW20+AS20+AX20 -> 32439.513 | AQ20: =G20*$AQ$8 -> 97.341568 | AR20: =AP20+AQ20 -> 97.341568 | AS20: =AQ$8*$H20 -> 22.179213 | AV20: =G20*$AV$8 -> 4547.4487 | AW20: =AU20+AV20 -> 4547.4487 | AX20: =AV$8*$H20 -> 1036.1333 | BF20: =G20*$BF$8 -> 1512.8647 | BG20: =BE20+BF20 -> 1512.8647 | BH20: =BF$8*$H20 -> 344.70524 | BK20: =G20*$BK$8 -> 105321.74 | BL20: =BJ20+BK20 -> 105321.74 | BM20: =BK$8*$H20 -> 23997.491 | BP20: =G20*$BP$8 -> 27896.317 | BQ20: =BO20+BP20 -> 27896.317 | BR20: =BP$8*$H20 -> 6356.1579 | BU20: =G20*$BU$8 -> 675.47143 | BV20: =BT20+BU20 -> 675.47143 | BW20: =BU$8*$H20 -> 153.90573 | CE20: =G20*$CE$8 -> 2321.4499 | CF20: =CD20+CE20 -> 2321.4499 | CG20: =CE$8*$H20 -> 528.94086 | CL20: =CJ$8*$H20 -> 0
A21: 47209 | C21: 1135000 | D21: 667500 | E21: 97157 | F21: 1525000 | G21: 495200 | H21: 112831 | I21: 2235000 | J21: 240875 | K21: 129308 | L21: =C21+F21+I21 -> 4895000 | M21: =D21+G21+J21 -> 1403575 | N21: =L21+M21 -> 6298575 | O21: =E21+H21+K21 -> 339296 | Q21: ='10-Year Fac Renewal Revised'!H20 -> 2235000 | R21: ='10-Year Fac Renewal Revised'!I20 -> 240875 | S21: =Q21+R21 -> 2475875 | T21: ='10-Year Fac Renewal Revised'!K20 -> 129308 | V21: =C21*$V$8 -> 576514.57 | W21: =D21*$V$8 -> 339051.52 | X21: =V21+W21 -> 915566.09 | Y21: =V$8*$E21 -> 49350.155 | AA21: =C21*$AA$8 -> 558485.43 | AB21: =D21*$AA$8 -> 328448.48 | AC21: =AA21+AB21 -> 886933.91 | AD21: =AA$8*$E21 -> 47806.845 | AF21: ='20-Year Acad Revised'!H20+'20-Year Fac Renewal Acad'!H20 -> 1086554.4 | AG21: ='20-Year Acad Revised'!I20+'20-Year Fac Renewal Acad'!I20 -> 352827.36 | AH21: =AF21+AG21 -> 1439381.7 | AI21: ='20-Year Acad Revised'!K20+'20-Year Fac Renewal Acad'!K20 -> 80391.487 | AK21: =+AZ21+CD21+BE21+BJ21+BO21+BT21+AP21+AU21 -> 438445.62 | AL21: =+BA21+CE21+BF21+BK21+BP21+BU21+AQ21+AV21 -> 142372.64 | AM21: =AK21+AL21 -> 580818.25 | AN21: =+BC21+CG21+BH21+BM21+BR21+BW21+AS21+AX21 -> 32439.513 | AP21: =F21*$AQ$8 -> 299.76957 | AQ21: =G21*$AQ$8 -> 97.341568 | AR21: =AP21+AQ21 -> 397.11114 | AS21: =AQ$8*$H21 -> 22.179213 | AU21: =F21*$AV$8 -> 14004.159 | AV21: =G21*$AV$8 -> 4547.4487 | AW21: =AU21+AV21 -> 18551.607 | AX21: =AV$8*$H21 -> 1036.1333 | BE21: =F21*$BF$8 -> 4658.9633 | BF21: =G21*$BF$8 -> 1512.8647 | BG21: =BE21+BF21 -> 6171.828 | BH21: =BF$8*$H21 -> 344.70524 | BJ21: =F21*$BK$8 -> 324345.03 | BK21: =G21*$BK$8 -> 105321.74 | BL21: =BJ21+BK21 -> 429666.77 | BM21: =BK$8*$H21 -> 23997.491 | BO21: =F21*$BP$8 -> 85908.489 | BP21: =G21*$BP$8 -> 27896.317 | BQ21: =BO21+BP21 -> 113804.81 | BR21: =BP$8*$H21 -> 6356.1579 | BT21: =F21*$BU$8 -> 2080.1574 | BU21: =G21*$BU$8 -> 675.47143 | BV21: =BT21+BU21 -> 2755.6288 | BW21: =BU$8*$H21 -> 153.90573 | CD21: =F21*$CE$8 -> 7149.0531 | CE21: =G21*$CE$8 -> 2321.4499 | CF21: =CD21+CE21 -> 9470.5029 | CG21: =CE$8*$H21 -> 528.94086 | CL21: =CJ$8*$H21 -> 0
A22: 47392 | D22: 639125 | E22: 97157 | G22: 457075 | H22: 112831 | J22: 185000 | K22: 129308 | M22: =D22+G22+J22 -> 1281200 | N22: =L22+M22 -> 1281200 | O22: =E22+H22+K22 -> 339296 | R22: ='10-Year Fac Renewal Revised'!I21 -> 185000 | S22: =Q22+R22 -> 185000 | T22: ='10-Year Fac Renewal Revised'!K21 -> 129308 | W22: =D22*$V$8 -> 324638.65 | X22: =V22+W22 -> 324638.65 | Y22: =V$8*$E22 -> 49350.155 | AB22: =D22*$AA$8 -> 314486.35 | AC22: =AA22+AB22 -> 314486.35 | AD22: =AA$8*$E22 -> 47806.845 | AG22: ='20-Year Acad Revised'!I21+'20-Year Fac Renewal Acad'!I21 -> 325663.5 | AH22: =AF22+AG22 -> 325663.5 | AI22: ='20-Year Acad Revised'!K21+'20-Year Fac Renewal Acad'!K21 -> 80391.487 | AL22: =+BA22+CE22+BF22+BK22+BP22+BU22+AQ22+AV22 -> 131411.5 | AM22: =AK22+AL22 -> 131411.5 | AN22: =+BC22+CG22+BH22+BM22+BR22+BW22+AS22+AX22 -> 32439.513 | AQ22: =G22*$AQ$8 -> 89.847328 | AR22: =AP22+AQ22 -> 89.847328 | AS22: =AQ$8*$H22 -> 22.179213 | AV22: =G22*$AV$8 -> 4197.3448 | AW22: =AU22+AV22 -> 4197.3448 | AX22: =AV$8*$H22 -> 1036.1333 | BF22: =G22*$BF$8 -> 1396.3906 | BG22: =BE22+BF22 -> 1396.3906 | BH22: =BF$8*$H22 -> 344.70524 | BK22: =G22*$BK$8 -> 97213.117 | BL22: =BJ22+BK22 -> 97213.117 | BM22: =BK$8*$H22 -> 23997.491 | BP22: =G22*$BP$8 -> 25748.605 | BQ22: =BO22+BP22 -> 25748.605 | BR22: =BP$8*$H22 -> 6356.1579 | BU22: =G22*$BU$8 -> 623.4675 | BV22: =BT22+BU22 -> 623.4675 | BW22: =BU$8*$H22 -> 153.90573 | CE22: =G22*$CE$8 -> 2142.7236 | CF22: =CD22+CE22 -> 2142.7236 | CG22: =CE$8*$H22 -> 528.94086 | CL22: =CJ$8*$H22 -> 0
A23: 11049 | C23: 1190000 | D23: 639125 | E23: 97157 | F23: 1600000 | G23: 457075 | H23: 112831 | I23: 2345000 | J23: 185000 | K23: 129308 | L23: =C23+F23+I23 -> 5135000 | M23: =D23+G23+J23 -> 1281200 | N23: =L23+M23 -> 6416200 | O23: =E23+H23+K23 -> 339296 | Q23: ='10-Year Fac Renewal Revised'!H22 -> 2345000 | R23: ='10-Year Fac Renewal Revised'!I22 -> 185000 | S23: =Q23+R23 -> 2530000 | T23: ='10-Year Fac Renewal Revised'!K22 -> 129308 | V23: =C23*$V$8 -> 604451.4 | W23: =D23*$V$8 -> 324638.65 | X23: =V23+W23 -> 929090.05 | Y23: =V$8*$E23 -> 49350.155 | AA23: =C23*$AA$8 -> 585548.6 | AB23: =D23*$AA$8 -> 314486.35 | AC23: =AA23+AB23 -> 900034.95 | AD23: =AA$8*$E23 -> 47806.845 | AF23: ='20-Year Acad Revised'!H22+'20-Year Fac Renewal Acad'!H22 -> 1139991.5 | AG23: ='20-Year Acad Revised'!I22+'20-Year Fac Renewal Acad'!I22 -> 325663.5 | AH23: =AF23+AG23 -> 1465655 | AI23: ='20-Year Acad Revised'!K22+'20-Year Fac Renewal Acad'!K22 -> 80391.487 | AK23: =+AZ23+CD23+BE23+BJ23+BO23+BT23+AP23+AU23 -> 460008.52 | AL23: =+BA23+CE23+BF23+BK23+BP23+BU23+AQ23+AV23 -> 131411.5 | AM23: =AK23+AL23 -> 591420.01 | AN23: =+BC23+CG23+BH23+BM23+BR23+BW23+AS23+AX23 -> 32439.513 | AP23: =F23*$AQ$8 -> 314.51233 | AQ23: =G23*$AQ$8 -> 89.847328 | AR23: =AP23+AQ23 -> 404.35966 | AS23: =AQ$8*$H23 -> 22.179213 | AU23: =F23*$AV$8 -> 14692.888 | AV23: =G23*$AV$8 -> 4197.3448 | AW23: =AU23+AV23 -> 18890.232 | AX23: =AV$8*$H23 -> 1036.1333 | BE23: =F23*$BF$8 -> 4888.0927 | BF23: =G23*$BF$8 -> 1396.3906 | BG23: =BE23+BF23 -> 6284.4833 | BH23: =BF$8*$H23 -> 344.70524 | BJ23: =F23*$BK$8 -> 340296.42 | BK23: =G23*$BK$8 -> 97213.117 | BL23: =BJ23+BK23 -> 437509.54 | BM23: =BK$8*$H23 -> 23997.491 | BO23: =F23*$BP$8 -> 90133.497 | BP23: =G23*$BP$8 -> 25748.605 | BQ23: =BO23+BP23 -> 115882.1 | BR23: =BP$8*$H23 -> 6356.1579 | BT23: =F23*$BU$8 -> 2182.4602 | BU23: =G23*$BU$8 -> 623.4675 | BV23: =BT23+BU23 -> 2805.9277 | BW23: =BU$8*$H23 -> 153.90573 | CD23: =F23*$CE$8 -> 7500.6458 | CE23: =G23*$CE$8 -> 2142.7236 | CF23: =CD23+CE23 -> 9643.3694 | CG23: =CE$8*$H23 -> 528.94086 | CL23: =CJ$8*$H23 -> 0
A24: 11232 | D24: 609375 | E24: 97157 | G24: 417075 | H24: 112831 | J24: 126375 | K24: 129308 | M24: =D24+G24+J24 -> 1152825 | N24: =L24+M24 -> 1152825 | O24: =E24+H24+K24 -> 339296 | R24: ='10-Year Fac Renewal Revised'!I23 -> 126375 | S24: =Q24+R24 -> 126375 | T24: ='10-Year Fac Renewal Revised'!K23 -> 129308 | W24: =D24*$V$8 -> 309527.37 | X24: =V24+W24 -> 309527.37 | Y24: =V$8*$E24 -> 49350.155 | AB24: =D24*$AA$8 -> 299847.63 | AC24: =AA24+AB24 -> 299847.63 | AD24: =AA$8*$E24 -> 47806.845 | AG24: ='20-Year Acad Revised'!I23+'20-Year Fac Renewal Acad'!I23 -> 297163.72 | AH24: =AF24+AG24 -> 297163.72 | AI24: ='20-Year Acad Revised'!K23+'20-Year Fac Renewal Acad'!K23 -> 80391.487 | AL24: =+BA24+CE24+BF24+BK24+BP24+BU24+AQ24+AV24 -> 119911.28 | AM24: =AK24+AL24 -> 119911.28 | AN24: =+BC24+CG24+BH24+BM24+BR24+BW24+AS24+AX24 -> 32439.513 | AQ24: =G24*$AQ$8 -> 81.98452 | AR24: =AP24+AQ24 -> 81.98452 | AS24: =AQ$8*$H24 -> 22.179213 | AV24: =G24*$AV$8 -> 3830.0226 | AW24: =AU24+AV24 -> 3830.0226 | AX24: =AV$8*$H24 -> 1036.1333 | BF24: =G24*$BF$8 -> 1274.1883 | BG24: =BE24+BF24 -> 1274.1883 | BH24: =BF$8*$H24 -> 344.70524 | BK24: =G24*$BK$8 -> 88705.706 | BL24: =BJ24+BK24 -> 88705.706 | BM24: =BK$8*$H24 -> 23997.491 | BP24: =G24*$BP$8 -> 23495.268 | BQ24: =BO24+BP24 -> 23495.268 | BR24: =BP$8*$H24 -> 6356.1579 | BU24: =G24*$BU$8 -> 568.90599 | BV24: =BT24+BU24 -> 568.90599 | BW24: =BU$8*$H24 -> 153.90573 | CE24: =G24*$CE$8 -> 1955.2074 | CF24: =CD24+CE24 -> 1955.2074 | CG24: =CE$8*$H24 -> 528.94086 | CL24: =CJ$8*$H24 -> 0
A25: 11414 | C25: 1250000 | D25: 609375 | E25: 97157 | F25: 1680000 | G25: 417075 | H25: 112831 | I25: 2465000 | J25: 126375 | K25: 129308 | L25: =C25+F25+I25 -> 5395000 | M25: =D25+G25+J25 -> 1152825 | N25: =L25+M25 -> 6547825 | O25: =E25+H25+K25 -> 339296 | Q25: ='10-Year Fac Renewal Revised'!H24 -> 2465000 | R25: ='10-Year Fac Renewal Revised'!I24 -> 126375 | S25: =Q25+R25 -> 2591375 | T25: ='10-Year Fac Renewal Revised'!K24 -> 129308 | V25: =C25*$V$8 -> 634927.94 | W25: =D25*$V$8 -> 309527.37 | X25: =V25+W25 -> 944455.31 | Y25: =V$8*$E25 -> 49350.155 | AA25: =C25*$AA$8 -> 615072.06 | AB25: =D25*$AA$8 -> 299847.63 | AC25: =AA25+AB25 -> 914919.69 | AD25: =AA$8*$E25 -> 47806.845 | AF25: ='20-Year Acad Revised'!H24+'20-Year Fac Renewal Acad'!H24 -> 1196991.1 | AG25: ='20-Year Acad Revised'!I24+'20-Year Fac Renewal Acad'!I24 -> 297163.72 | AH25: =AF25+AG25 -> 1494154.8 | AI25: ='20-Year Acad Revised'!K24+'20-Year Fac Renewal Acad'!K24 -> 80391.487 | AK25: =+AZ25+CD25+BE25+BJ25+BO25+BT25+AP25+AU25 -> 483008.94 | AL25: =+BA25+CE25+BF25+BK25+BP25+BU25+AQ25+AV25 -> 119911.28 | AM25: =AK25+AL25 -> 602920.23 | AN25: =+BC25+CG25+BH25+BM25+BR25+BW25+AS25+AX25 -> 32439.513 | AP25: =F25*$AQ$8 -> 330.23795 | AQ25: =G25*$AQ$8 -> 81.98452 | AR25: =AP25+AQ25 -> 412.22247 | AS25: =AQ$8*$H25 -> 22.179213 | AU25: =F25*$AV$8 -> 15427.532 | AV25: =G25*$AV$8 -> 3830.0226 | AW25: =AU25+AV25 -> 19257.555 | AX25: =AV$8*$H25 -> 1036.1333 | BE25: =F25*$BF$8 -> 5132.4973 | BF25: =G25*$BF$8 -> 1274.1883 | BG25: =BE25+BF25 -> 6406.6856 | BH25: =BF$8*$H25 -> 344.70524 | BJ25: =F25*$BK$8 -> 357311.24 | BK25: =G25*$BK$8 -> 88705.706 | BL25: =BJ25+BK25 -> 446016.95 | BM25: =BK$8*$H25 -> 23997.491 | BO25: =F25*$BP$8 -> 94640.172 | BP25: =G25*$BP$8 -> 23495.268 | BQ25: =BO25+BP25 -> 118135.44 | BR25: =BP$8*$H25 -> 6356.1579 | BT25: =F25*$BU$8 -> 2291.5832 | BU25: =G25*$BU$8 -> 568.90599 | BV25: =BT25+BU25 -> 2860.4892 | BW25: =BU$8*$H25 -> 153.90573 | CD25: =F25*$CE$8 -> 7875.6781 | CE25: =G25*$CE$8 -> 1955.2074 | CF25: =CD25+CE25 -> 9830.8855 | CG25: =CE$8*$H25 -> 528.94086 | CL25: =CJ$8*$H25 -> 0
A26: 11597 | D26: 578125 | E26: 97157 | G26: 375075 | H26: 112831 | J26: 64750 | K26: 129308 | M26: =D26+G26+J26 -> 1017950 | N26: =L26+M26 -> 1017950 | O26: =E26+H26+K26 -> 339296 | R26: ='10-Year Fac Renewal Revised'!I25 -> 64750 | S26: =Q26+R26 -> 64750 | T26: ='10-Year Fac Renewal Revised'!K25 -> 129308 | W26: =D26*$V$8 -> 293654.17 | X26: =V26+W26 -> 293654.17 | Y26: =V$8*$E26 -> 49350.155 | AB26: =D26*$AA$8 -> 284470.83 | AC26: =AA26+AB26 -> 284470.83 | AD26: =AA$8*$E26 -> 47806.845 | AG26: ='20-Year Acad Revised'!I25+'20-Year Fac Renewal Acad'!I25 -> 267238.94 | AH26: =AF26+AG26 -> 267238.94 | AI26: ='20-Year Acad Revised'!K25+'20-Year Fac Renewal Acad'!K25 -> 80391.487 | AL26: =+BA26+CE26+BF26+BK26+BP26+BU26+AQ26+AV26 -> 107836.06 | AM26: =AK26+AL26 -> 107836.06 | AN26: =+BC26+CG26+BH26+BM26+BR26+BW26+AS26+AX26 -> 32439.513 | AQ26: =G26*$AQ$8 -> 73.728571 | AR26: =AP26+AQ26 -> 73.728571 | AS26: =AQ$8*$H26 -> 22.179213 | AV26: =G26*$AV$8 -> 3444.3343 | AW26: =AU26+AV26 -> 3444.3343 | AX26: =AV$8*$H26 -> 1036.1333 | BF26: =G26*$BF$8 -> 1145.8759 | BG26: =BE26+BF26 -> 1145.8759 | BH26: =BF$8*$H26 -> 344.70524 | BK26: =G26*$BK$8 -> 79772.925 | BL26: =BJ26+BK26 -> 79772.925 | BM26: =BK$8*$H26 -> 23997.491 | BP26: =G26*$BP$8 -> 21129.263 | BQ26: =BO26+BP26 -> 21129.263 | BR26: =BP$8*$H26 -> 6356.1579 | BU26: =G26*$BU$8 -> 511.61641 | BV26: =BT26+BU26 -> 511.61641 | BW26: =BU$8*$H26 -> 153.90573 | CE26: =G26*$CE$8 -> 1758.3155 | CF26: =CD26+CE26 -> 1758.3155 | CG26: =CE$8*$H26 -> 528.94086 | CL26: =CJ$8*$H26 -> 0
A27: 11780 | C27: 1315000 | D27: 578125 | E27: 97157 | F27: 1765000 | G27: 375075 | H27: 112831 | I27: 2590000 | J27: 64750 | K27: 129308 | L27: =C27+F27+I27 -> 5670000 | M27: =D27+G27+J27 -> 1017950 | N27: =L27+M27 -> 6687950 | O27: =E27+H27+K27 -> 339296 | Q27: ='10-Year Fac Renewal Revised'!H26 -> 2590000 | R27: ='10-Year Fac Renewal Revised'!I26 -> 64750 | S27: =Q27+R27 -> 2654750 | T27: ='10-Year Fac Renewal Revised'!K26 -> 129308 | V27: =C27*$V$8 -> 667944.19 | W27: =D27*$V$8 -> 293654.17 | X27: =V27+W27 -> 961598.36 | Y27: =V$8*$E27 -> 49350.155 | AA27: =C27*$AA$8 -> 647055.81 | AB27: =D27*$AA$8 -> 284470.83 | AC27: =AA27+AB27 -> 931526.64 | AD27: =AA$8*$E27 -> 47806.845 | AF27: ='20-Year Acad Revised'!H26+'20-Year Fac Renewal Acad'!H26 -> 1257553.1 | AG27: ='20-Year Acad Revised'!I26+'20-Year Fac Renewal Acad'!I26 -> 267238.94 | AH27: =AF27+AG27 -> 1524792 | AI27: ='20-Year Acad Revised'!K26+'20-Year Fac Renewal Acad'!K26 -> 80391.487 | AK27: =+AZ27+CD27+BE27+BJ27+BO27+BT27+AP27+AU27 -> 507446.9 | AL27: =+BA27+CE27+BF27+BK27+BP27+BU27+AQ27+AV27 -> 107836.06 | AM27: =AK27+AL27 -> 615282.95 | AN27: =+BC27+CG27+BH27+BM27+BR27+BW27+AS27+AX27 -> 32439.513 | AP27: =F27*$AQ$8 -> 346.94642 | AQ27: =G27*$AQ$8 -> 73.728571 | AR27: =AP27+AQ27 -> 420.67499 | AS27: =AQ$8*$H27 -> 22.179213 | AU27: =F27*$AV$8 -> 16208.092 | AV27: =G27*$AV$8 -> 3444.3343 | AW27: =AU27+AV27 -> 19652.426 | AX27: =AV$8*$H27 -> 1036.1333 | BE27: =F27*$BF$8 -> 5392.1773 | BF27: =G27*$BF$8 -> 1145.8759 | BG27: =BE27+BF27 -> 6538.0531 | BH27: =BF$8*$H27 -> 344.70524 | BJ27: =F27*$BK$8 -> 375389.49 | BK27: =G27*$BK$8 -> 79772.925 | BL27: =BJ27+BK27 -> 455162.42 | BM27: =BK$8*$H27 -> 23997.491 | BO27: =F27*$BP$8 -> 99428.514 | BP27: =G27*$BP$8 -> 21129.263 | BQ27: =BO27+BP27 -> 120557.78 | BR27: =BP$8*$H27 -> 6356.1579 | BT27: =F27*$BU$8 -> 2407.5264 | BU27: =G27*$BU$8 -> 511.61641 | BV27: =BT27+BU27 -> 2919.1428 | BW27: =BU$8*$H27 -> 153.90573 | CD27: =F27*$CE$8 -> 8274.1499 | CE27: =G27*$CE$8 -> 1758.3155 | CF27: =CD27+CE27 -> 10032.465 | CG27: =CE$8*$H27 -> 528.94086 | CL27: =CJ$8*$H27 -> 0
A28: 11963 | D28: 545250 | E28: 97157 | G28: 330950 | H28: 112831 | M28: =D28+G28+J28 -> 876200 | N28: =L28+M28 -> 876200 | O28: =E28+H28+K28 -> 209988 | W28: =D28*$V$8 -> 276955.57 | X28: =V28+W28 -> 276955.57 | Y28: =V$8*$E28 -> 49350.155 | AB28: =D28*$AA$8 -> 268294.43 | AC28: =AA28+AB28 -> 268294.43 | AD28: =AA$8*$E28 -> 47806.845 | AG28: ='20-Year Acad Revised'!I27+'20-Year Fac Renewal Acad'!I27 -> 235800.11 | AH28: =AF28+AG28 -> 235800.11 | AI28: ='20-Year Acad Revised'!K27+'20-Year Fac Renewal Acad'!K27 -> 80391.487 | AL28: =+BA28+CE28+BF28+BK28+BP28+BU28+AQ28+AV28 -> 95149.887 | AM28: =AK28+AL28 -> 95149.887 | AN28: =+BC28+CG28+BH28+BM28+BR28+BW28+AS28+AX28 -> 32439.513 | AQ28: =G28*$AQ$8 -> 65.054911 | AR28: =AP28+AQ28 -> 65.054911 | AS28: =AQ$8*$H28 -> 22.179213 | AV28: =G28*$AV$8 -> 3039.132 | AW28: =AU28+AV28 -> 3039.132 | AX28: =AV$8*$H28 -> 1036.1333 | BF28: =G28*$BF$8 -> 1011.0714 | BG28: =BE28+BF28 -> 1011.0714 | BH28: =BF$8*$H28 -> 344.70524 | BK28: =G28*$BK$8 -> 70388.188 | BL28: =BJ28+BK28 -> 70388.188 | BM28: =BK$8*$H28 -> 23997.491 | BP28: =G28*$BP$8 -> 18643.55 | BQ28: =BO28+BP28 -> 18643.55 | BR28: =BP$8*$H28 -> 6356.1579 | BU28: =G28*$BU$8 -> 451.42825 | BV28: =BT28+BU28 -> 451.42825 | BW28: =BU$8*$H28 -> 153.90573 | CE28: =G28*$CE$8 -> 1551.4617 | CF28: =CD28+CE28 -> 1551.4617 | CG28: =CE$8*$H28 -> 528.94086 | CL28: =CJ$8*$H28 -> 0
A29: 12145 | C29: 1380000 | D29: 545250 | E29: 97157 | F29: 1855000 | G29: 330950 | H29: 112831 | L29: =C29+F29+I29 -> 3235000 | M29: =D29+G29+J29 -> 876200 | N29: =L29+M29 -> 4111200 | O29: =E29+H29+K29 -> 209988 | V29: =C29*$V$8 -> 700960.44 | W29: =D29*$V$8 -> 276955.57 | X29: =V29+W29 -> 977916.01 | Y29: =V$8*$E29 -> 49350.155 | AA29: =C29*$AA$8 -> 679039.56 | AB29: =D29*$AA$8 -> 268294.43 | AC29: =AA29+AB29 -> 947333.99 | AD29: =AA$8*$E29 -> 47806.845 | AF29: ='20-Year Acad Revised'!H28+'20-Year Fac Renewal Acad'!H28 -> 1321677.6 | AG29: ='20-Year Acad Revised'!I28+'20-Year Fac Renewal Acad'!I28 -> 235800.11 | AH29: =AF29+AG29 -> 1557477.7 | AI29: ='20-Year Acad Revised'!K28+'20-Year Fac Renewal Acad'!K28 -> 80391.487 | AK29: =+AZ29+CD29+BE29+BJ29+BO29+BT29+AP29+AU29 -> 533322.37 | AL29: =+BA29+CE29+BF29+BK29+BP29+BU29+AQ29+AV29 -> 95149.887 | AM29: =AK29+AL29 -> 628472.26 | AN29: =+BC29+CG29+BH29+BM29+BR29+BW29+AS29+AX29 -> 32439.513 | AP29: =F29*$AQ$8 -> 364.63774 | AQ29: =G29*$AQ$8 -> 65.054911 | AR29: =AP29+AQ29 -> 429.69265 | AS29: =AQ$8*$H29 -> 22.179213 | AU29: =F29*$AV$8 -> 17034.567 | AV29: =G29*$AV$8 -> 3039.132 | AW29: =AU29+AV29 -> 20073.699 | AX29: =AV$8*$H29 -> 1036.1333 | BE29: =F29*$BF$8 -> 5667.1325 | BF29: =G29*$BF$8 -> 1011.0714 | BG29: =BE29+BF29 -> 6678.2039 | BH29: =BF$8*$H29 -> 344.70524 | BJ29: =F29*$BK$8 -> 394531.16 | BK29: =G29*$BK$8 -> 70388.188 | BL29: =BJ29+BK29 -> 464919.35 | BM29: =BK$8*$H29 -> 23997.491 | BO29: =F29*$BP$8 -> 104498.52 | BP29: =G29*$BP$8 -> 18643.55 | BQ29: =BO29+BP29 -> 123142.07 | BR29: =BP$8*$H29 -> 6356.1579 | BT29: =F29*$BU$8 -> 2530.2898 | BU29: =G29*$BU$8 -> 451.42825 | BV29: =BT29+BU29 -> 2981.718 | BW29: =BU$8*$H29 -> 153.90573 | CD29: =F29*$CE$8 -> 8696.0613 | CE29: =G29*$CE$8 -> 1551.4617 | CF29: =CD29+CE29 -> 10247.523 | CG29: =CE$8*$H29 -> 528.94086 | CL29: =CJ$8*$H29 -> 0
A30: 12328 | D30: 517650 | E30: 97157 | G30: 293850 | H30: 112831 | M30: =D30+G30+J30 -> 811500 | N30: =L30+M30 -> 811500 | O30: =E30+H30+K30 -> 209988 | W30: =D30*$V$8 -> 262936.36 | X30: =V30+W30 -> 262936.36 | Y30: =V$8*$E30 -> 49350.155 | AB30: =D30*$AA$8 -> 254713.64 | AC30: =AA30+AB30 -> 254713.64 | AD30: =AA$8*$E30 -> 47806.845 | AG30: ='20-Year Acad Revised'!I29+'20-Year Fac Renewal Acad'!I29 -> 209366.56 | AH30: =AF30+AG30 -> 209366.56 | AI30: ='20-Year Acad Revised'!K29+'20-Year Fac Renewal Acad'!K29 -> 80391.487 | AL30: =+BA30+CE30+BF30+BK30+BP30+BU30+AQ30+AV30 -> 84483.439 | AM30: =AK30+AL30 -> 84483.439 | AN30: =+BC30+CG30+BH30+BM30+BR30+BW30+AS30+AX30 -> 32439.513 | AQ30: =G30*$AQ$8 -> 57.762156 | AR30: =AP30+AQ30 -> 57.762156 | AS30: =AQ$8*$H30 -> 22.179213 | AV30: =G30*$AV$8 -> 2698.4406 | AW30: =AU30+AV30 -> 2698.4406 | AX30: =AV$8*$H30 -> 1036.1333 | BF30: =G30*$BF$8 -> 897.72877 | BG30: =BE30+BF30 -> 897.72877 | BH30: =BF$8*$H30 -> 344.70524 | BK30: =G30*$BK$8 -> 62497.565 | BL30: =BJ30+BK30 -> 62497.565 | BM30: =BK$8*$H30 -> 23997.491 | BP30: =G30*$BP$8 -> 16553.58 | BQ30: =BO30+BP30 -> 16553.58 | BR30: =BP$8*$H30 -> 6356.1579 | BU30: =G30*$BU$8 -> 400.82245 | BV30: =BT30+BU30 -> 400.82245 | BW30: =BU$8*$H30 -> 153.90573 | CE30: =G30*$CE$8 -> 1377.5405 | CF30: =CD30+CE30 -> 1377.5405 | CG30: =CE$8*$H30 -> 528.94086 | CL30: =CJ$8*$H30 -> 0
A31: 12510 | C31: 1435000 | D31: 517650 | E31: 97157 | F31: 1930000 | G31: 293850 | H31: 112831 | L31: =C31+F31+I31 -> 3365000 | M31: =D31+G31+J31 -> 811500 | N31: =L31+M31 -> 4176500 | O31: =E31+H31+K31 -> 209988 | V31: =C31*$V$8 -> 728897.27 | W31: =D31*$V$8 -> 262936.36 | X31: =V31+W31 -> 991833.63 | Y31: =V$8*$E31 -> 49350.155 | AA31: =C31*$AA$8 -> 706102.73 | AB31: =D31*$AA$8 -> 254713.64 | AC31: =AA31+AB31 -> 960816.37 | AD31: =AA$8*$E31 -> 47806.845 | AF31: ='20-Year Acad Revised'!H30+'20-Year Fac Renewal Acad'!H30 -> 1375114.7 | AG31: ='20-Year Acad Revised'!I30+'20-Year Fac Renewal Acad'!I30 -> 209366.56 | AH31: =AF31+AG31 -> 1584481.3 | AI31: ='20-Year Acad Revised'!K30+'20-Year Fac Renewal Acad'!K30 -> 80391.487 | AK31: =+AZ31+CD31+BE31+BJ31+BO31+BT31+AP31+AU31 -> 554885.27 | AL31: =+BA31+CE31+BF31+BK31+BP31+BU31+AQ31+AV31 -> 84483.439 | AM31: =AK31+AL31 -> 639368.71 | AN31: =+BC31+CG31+BH31+BM31+BR31+BW31+AS31+AX31 -> 32439.513 | AP31: =F31*$AQ$8 -> 379.3805 | AQ31: =G31*$AQ$8 -> 57.762156 | AR31: =AP31+AQ31 -> 437.14266 | AS31: =AQ$8*$H31 -> 22.179213 | AU31: =F31*$AV$8 -> 17723.296 | AV31: =G31*$AV$8 -> 2698.4406 | AW31: =AU31+AV31 -> 20421.736 | AX31: =AV$8*$H31 -> 1036.1333 | BE31: =F31*$BF$8 -> 5896.2618 | BF31: =G31*$BF$8 -> 897.72877 | BG31: =BE31+BF31 -> 6793.9906 | BH31: =BF$8*$H31 -> 344.70524 | BJ31: =F31*$BK$8 -> 410482.56 | BK31: =G31*$BK$8 -> 62497.565 | BL31: =BJ31+BK31 -> 472980.12 | BM31: =BK$8*$H31 -> 23997.491 | BO31: =F31*$BP$8 -> 108723.53 | BP31: =G31*$BP$8 -> 16553.58 | BQ31: =BO31+BP31 -> 125277.11 | BR31: =BP$8*$H31 -> 6356.1579 | BT31: =F31*$BU$8 -> 2632.5926 | BU31: =G31*$BU$8 -> 400.82245 | BV31: =BT31+BU31 -> 3033.4151 | BW31: =BU$8*$H31 -> 153.90573 | CD31: =F31*$CE$8 -> 9047.654 | CE31: =G31*$CE$8 -> 1377.5405 | CF31: =CD31+CE31 -> 10425.195 | CG31: =CE$8*$H31 -> 528.94086 | CL31: =CJ$8*$H31 -> 0
A32: 12693 | D32: 496125 | E32: 97157 | G32: 264900 | H32: 112831 | M32: =D32+G32+J32 -> 761025 | N32: =L32+M32 -> 761025 | O32: =E32+H32+K32 -> 209988 | W32: =D32*$V$8 -> 252002.9 | X32: =V32+W32 -> 252002.9 | Y32: =V$8*$E32 -> 49350.155 | AB32: =D32*$AA$8 -> 244122.1 | AC32: =AA32+AB32 -> 244122.1 | AD32: =AA$8*$E32 -> 47806.845 | AG32: ='20-Year Acad Revised'!I31+'20-Year Fac Renewal Acad'!I31 -> 188739.84 | AH32: =AF32+AG32 -> 188739.84 | AI32: ='20-Year Acad Revised'!K31+'20-Year Fac Renewal Acad'!K31 -> 80391.487 | AL32: =+BA32+CE32+BF32+BK32+BP32+BU32+AQ32+AV32 -> 76160.16 | AM32: =AK32+AL32 -> 76160.16 | AN32: =+BC32+CG32+BH32+BM32+BR32+BW32+AS32+AX32 -> 32439.513 | AQ32: =G32*$AQ$8 -> 52.071448 | AR32: =AP32+AQ32 -> 52.071448 | AS32: =AQ$8*$H32 -> 22.179213 | AV32: =G32*$AV$8 -> 2432.5912 | AW32: =AU32+AV32 -> 2432.5912 | AX32: =AV$8*$H32 -> 1036.1333 | BF32: =G32*$BF$8 -> 809.28485 | BG32: =BE32+BF32 -> 809.28485 | BH32: =BF$8*$H32 -> 344.70524 | BK32: =G32*$BK$8 -> 56340.326 | BL32: =BJ32+BK32 -> 56340.326 | BM32: =BK$8*$H32 -> 23997.491 | BP32: =G32*$BP$8 -> 14922.727 | BQ32: =BO32+BP32 -> 14922.727 | BR32: =BP$8*$H32 -> 6356.1579 | BU32: =G32*$BU$8 -> 361.33357 | BV32: =BT32+BU32 -> 361.33357 | BW32: =BU$8*$H32 -> 153.90573 | CE32: =G32*$CE$8 -> 1241.8257 | CF32: =CD32+CE32 -> 1241.8257 | CG32: =CE$8*$H32 -> 528.94086 | CL32: =CJ$8*$H32 -> 0
A33: 12875 | C33: 1475000 | D33: 496125 | E33: 97157 | F33: 1985000 | G33: 264900 | H33: 112831 | L33: =C33+F33+I33 -> 3460000 | M33: =D33+G33+J33 -> 761025 | N33: =L33+M33 -> 4221025 | O33: =E33+H33+K33 -> 209988 | V33: =C33*$V$8 -> 749214.97 | W33: =D33*$V$8 -> 252002.9 | X33: =V33+W33 -> 1001217.9 | Y33: =V$8*$E33 -> 49350.155 | AA33: =C33*$AA$8 -> 725785.03 | AB33: =D33*$AA$8 -> 244122.1 | AC33: =AA33+AB33 -> 969907.13 | AD33: =AA$8*$E33 -> 47806.845 | AF33: ='20-Year Acad Revised'!H32+'20-Year Fac Renewal Acad'!H32 -> 1414301.9 | AG33: ='20-Year Acad Revised'!I32+'20-Year Fac Renewal Acad'!I32 -> 188739.84 | AH33: =AF33+AG33 -> 1603041.8 | AI33: ='20-Year Acad Revised'!K32+'20-Year Fac Renewal Acad'!K32 -> 80391.487 | AK33: =+AZ33+CD33+BE33+BJ33+BO33+BT33+AP33+AU33 -> 570698.07 | AL33: =+BA33+CE33+BF33+BK33+BP33+BU33+AQ33+AV33 -> 76160.16 | AM33: =AK33+AL33 -> 646858.23 | AN33: =+BC33+CG33+BH33+BM33+BR33+BW33+AS33+AX33 -> 32439.513 | AP33: =F33*$AQ$8 -> 390.19187 | AQ33: =G33*$AQ$8 -> 52.071448 | AR33: =AP33+AQ33 -> 442.26331 | AS33: =AQ$8*$H33 -> 22.179213 | AU33: =F33*$AV$8 -> 18228.364 | AV33: =G33*$AV$8 -> 2432.5912 | AW33: =AU33+AV33 -> 20660.955 | AX33: =AV$8*$H33 -> 1036.1333 | BE33: =F33*$BF$8 -> 6064.29 | BF33: =G33*$BF$8 -> 809.28485 | BG33: =BE33+BF33 -> 6873.5748 | BH33: =BF$8*$H33 -> 344.70524 | BJ33: =F33*$BK$8 -> 422180.25 | BK33: =G33*$BK$8 -> 56340.326 | BL33: =BJ33+BK33 -> 478520.57 | BM33: =BK$8*$H33 -> 23997.491 | BO33: =F33*$BP$8 -> 111821.87 | BP33: =G33*$BP$8 -> 14922.727 | BQ33: =BO33+BP33 -> 126744.6 | BR33: =BP$8*$H33 -> 6356.1579 | BT33: =F33*$BU$8 -> 2707.6147 | BU33: =G33*$BU$8 -> 361.33357 | BV33: =BT33+BU33 -> 3068.9482 | BW33: =BU$8*$H33 -> 153.90573 | CD33: =F33*$CE$8 -> 9305.4887 | CE33: =G33*$CE$8 -> 1241.8257 | CF33: =CD33+CE33 -> 10547.314 | CG33: =CE$8*$H33 -> 528.94086 | CL33: =CJ$8*$H33 -> 0
A34: 13058 | D34: 474000 | E34: 97157 | G34: 235125 | H34: 112831 | M34: =D34+G34+J34 -> 709125 | N34: =L34+M34 -> 709125 | O34: =E34+H34+K34 -> 209988 | W34: =D34*$V$8 -> 240764.67 | X34: =V34+W34 -> 240764.67 | Y34: =V$8*$E34 -> 49350.155 | AB34: =D34*$AA$8 -> 233235.33 | AC34: =AA34+AB34 -> 233235.33 | AD34: =AA$8*$E34 -> 47806.845 | AG34: ='20-Year Acad Revised'!I33+'20-Year Fac Renewal Acad'!I33 -> 167525.31 | AH34: =AF34+AG34 -> 167525.31 | AI34: ='20-Year Acad Revised'!K33+'20-Year Fac Renewal Acad'!K33 -> 80391.487 | AL34: =+BA34+CE34+BF34+BK34+BP34+BU34+AQ34+AV34 -> 67599.689 | AM34: =AK34+AL34 -> 67599.689 | AN34: =+BC34+CG34+BH34+BM34+BR34+BW34+AS34+AX34 -> 32439.513 | AQ34: =G34*$AQ$8 -> 46.21857 | AR34: =AP34+AQ34 -> 46.21857 | AS34: =AQ$8*$H34 -> 22.179213 | AV34: =G34*$AV$8 -> 2159.1657 | AW34: =AU34+AV34 -> 2159.1657 | AX34: =AV$8*$H34 -> 1036.1333 | BF34: =G34*$BF$8 -> 718.3205 | BG34: =BE34+BF34 -> 718.3205 | BH34: =BF$8*$H34 -> 344.70524 | BK34: =G34*$BK$8 -> 50007.623 | BL34: =BJ34+BK34 -> 50007.623 | BM34: =BK$8*$H34 -> 23997.491 | BP34: =G34*$BP$8 -> 13245.399 | BQ34: =BO34+BP34 -> 13245.399 | BR34: =BP$8*$H34 -> 6356.1579 | BU34: =G34*$BU$8 -> 320.71935 | BV34: =BT34+BU34 -> 320.71935 | BW34: =BU$8*$H34 -> 153.90573 | CE34: =G34*$CE$8 -> 1102.2433 | CF34: =CD34+CE34 -> 1102.2433 | CG34: =CE$8*$H34 -> 528.94086 | CL34: =CJ$8*$H34 -> 0
A35: 13241 | C35: 1520000 | D35: 474000 | E35: 97157 | F35: 2045000 | G35: 235125 | H35: 112831 | L35: =C35+F35+I35 -> 3565000 | M35: =D35+G35+J35 -> 709125 | N35: =L35+M35 -> 4274125 | O35: =E35+H35+K35 -> 209988 | V35: =C35*$V$8 -> 772072.37 | W35: =D35*$V$8 -> 240764.67 | X35: =V35+W35 -> 1012837 | Y35: =V$8*$E35 -> 49350.155 | AA35: =C35*$AA$8 -> 747927.63 | AB35: =D35*$AA$8 -> 233235.33 | AC35: =AA35+AB35 -> 981162.95 | AD35: =AA$8*$E35 -> 47806.845 | AF35: ='20-Year Acad Revised'!H34+'20-Year Fac Renewal Acad'!H34 -> 1457051.6 | AG35: ='20-Year Acad Revised'!I34+'20-Year Fac Renewal Acad'!I34 -> 167525.31 | AH35: =AF35+AG35 -> 1624576.9 | AI35: ='20-Year Acad Revised'!K34+'20-Year Fac Renewal Acad'!K34 -> 80391.487 | AK35: =+AZ35+CD35+BE35+BJ35+BO35+BT35+AP35+AU35 -> 587948.39 | AL35: =+BA35+CE35+BF35+BK35+BP35+BU35+AQ35+AV35 -> 67599.689 | AM35: =AK35+AL35 -> 655548.08 | AN35: =+BC35+CG35+BH35+BM35+BR35+BW35+AS35+AX35 -> 32439.513 | AP35: =F35*$AQ$8 -> 401.98608 | AQ35: =G35*$AQ$8 -> 46.21857 | AR35: =AP35+AQ35 -> 448.20465 | AS35: =AQ$8*$H35 -> 22.179213 | AU35: =F35*$AV$8 -> 18779.347 | AV35: =G35*$AV$8 -> 2159.1657 | AW35: =AU35+AV35 -> 20938.513 | AX35: =AV$8*$H35 -> 1036.1333 | BE35: =F35*$BF$8 -> 6247.5935 | BF35: =G35*$BF$8 -> 718.3205 | BG35: =BE35+BF35 -> 6965.914 | BH35: =BF$8*$H35 -> 344.70524 | BJ35: =F35*$BK$8 -> 434941.36 | BK35: =G35*$BK$8 -> 50007.623 | BL35: =BJ35+BK35 -> 484948.99 | BM35: =BK$8*$H35 -> 23997.491 | BO35: =F35*$BP$8 -> 115201.88 | BP35: =G35*$BP$8 -> 13245.399 | BQ35: =BO35+BP35 -> 128447.27 | BR35: =BP$8*$H35 -> 6356.1579 | BT35: =F35*$BU$8 -> 2789.4569 | BU35: =G35*$BU$8 -> 320.71935 | BV35: =BT35+BU35 -> 3110.1763 | BW35: =BU$8*$H35 -> 153.90573 | CD35: =F35*$CE$8 -> 9586.763 | CE35: =G35*$CE$8 -> 1102.2433 | CF35: =CD35+CE35 -> 10689.006 | CG35: =CE$8*$H35 -> 528.94086 | CL35: =CJ$8*$H35 -> 0
A36: 13424 | D36: 451200 | E36: 97157 | G36: 204450 | H36: 112831 | M36: =D36+G36+J36 -> 655650 | N36: =L36+M36 -> 655650 | O36: =E36+H36+K36 -> 209988 | W36: =D36*$V$8 -> 229183.59 | X36: =V36+W36 -> 229183.59 | Y36: =V$8*$E36 -> 49350.155 | AB36: =D36*$AA$8 -> 222016.41 | AC36: =AA36+AB36 -> 222016.41 | AD36: =AA$8*$E36 -> 47806.845 | AG36: ='20-Year Acad Revised'!I35+'20-Year Fac Renewal Acad'!I35 -> 145669.54 | AH36: =AF36+AG36 -> 145669.54 | AI36: ='20-Year Acad Revised'!K35+'20-Year Fac Renewal Acad'!K35 -> 80391.487 | AL36: =+BA36+CE36+BF36+BK36+BP36+BU36+AQ36+AV36 -> 58780.463 | AM36: =AK36+AL36 -> 58780.463 | AN36: =+BC36+CG36+BH36+BM36+BR36+BW36+AS36+AX36 -> 32439.513 | AQ36: =G36*$AQ$8 -> 40.188779 | AR36: =AP36+AQ36 -> 40.188779 | AS36: =AQ$8*$H36 -> 22.179213 | AV36: =G36*$AV$8 -> 1877.4755 | AW36: =AU36+AV36 -> 1877.4755 | AX36: =AV$8*$H36 -> 1036.1333 | BF36: =G36*$BF$8 -> 624.60659 | BG36: =BE36+BF36 -> 624.60659 | BH36: =BF$8*$H36 -> 344.70524 | BK36: =G36*$BK$8 -> 43483.502 | BL36: =BJ36+BK36 -> 43483.502 | BM36: =BK$8*$H36 -> 23997.491 | BP36: =G36*$BP$8 -> 11517.371 | BQ36: =BO36+BP36 -> 11517.371 | BR36: =BP$8*$H36 -> 6356.1579 | BU36: =G36*$BU$8 -> 278.87749 | BV36: =BT36+BU36 -> 278.87749 | BW36: =BU$8*$H36 -> 153.90573 | CE36: =G36*$CE$8 -> 958.4419 | CF36: =CD36+CE36 -> 958.4419 | CG36: =CE$8*$H36 -> 528.94086 | CL36: =CJ$8*$H36 -> 0
A37: 13606 | C37: 1565000 | D37: 451200 | E37: 97157 | F37: 2105000 | G37: 204450 | H37: 112831 | L37: =C37+F37+I37 -> 3670000 | M37: =D37+G37+J37 -> 655650 | N37: =L37+M37 -> 4325650 | O37: =E37+H37+K37 -> 209988 | V37: =C37*$V$8 -> 794929.78 | W37: =D37*$V$8 -> 229183.59 | X37: =V37+W37 -> 1024113.4 | Y37: =V$8*$E37 -> 49350.155 | AA37: =C37*$AA$8 -> 770070.22 | AB37: =D37*$AA$8 -> 222016.41 | AC37: =AA37+AB37 -> 992086.63 | AD37: =AA$8*$E37 -> 47806.845 | AF37: ='20-Year Acad Revised'!H36+'20-Year Fac Renewal Acad'!H36 -> 1499801.3 | AG37: ='20-Year Acad Revised'!I36+'20-Year Fac Renewal Acad'!I36 -> 145669.54 | AH37: =AF37+AG37 -> 1645470.8 | AI37: ='20-Year Acad Revised'!K36+'20-Year Fac Renewal Acad'!K36 -> 80391.487 | AK37: =+AZ37+CD37+BE37+BJ37+BO37+BT37+AP37+AU37 -> 605198.71 | AL37: =+BA37+CE37+BF37+BK37+BP37+BU37+AQ37+AV37 -> 58780.463 | AM37: =AK37+AL37 -> 663979.17 | AN37: =+BC37+CG37+BH37+BM37+BR37+BW37+AS37+AX37 -> 32439.513 | AP37: =F37*$AQ$8 -> 413.78029 | AQ37: =G37*$AQ$8 -> 40.188779 | AR37: =AP37+AQ37 -> 453.96907 | AS37: =AQ$8*$H37 -> 22.179213 | AU37: =F37*$AV$8 -> 19330.33 | AV37: =G37*$AV$8 -> 1877.4755 | AW37: =AU37+AV37 -> 21207.806 | AX37: =AV$8*$H37 -> 1036.1333 | BE37: =F37*$BF$8 -> 6430.8969 | BF37: =G37*$BF$8 -> 624.60659 | BG37: =BE37+BF37 -> 7055.5035 | BH37: =BF$8*$H37 -> 344.70524 | BJ37: =F37*$BK$8 -> 447702.48 | BK37: =G37*$BK$8 -> 43483.502 | BL37: =BJ37+BK37 -> 491185.98 | BM37: =BK$8*$H37 -> 23997.491 | BO37: =F37*$BP$8 -> 118581.88 | BP37: =G37*$BP$8 -> 11517.371 | BQ37: =BO37+BP37 -> 130099.25 | BR37: =BP$8*$H37 -> 6356.1579 | BT37: =F37*$BU$8 -> 2871.2992 | BU37: =G37*$BU$8 -> 278.87749 | BV37: =BT37+BU37 -> 3150.1767 | BW37: =BU$8*$H37 -> 153.90573 | CD37: =F37*$CE$8 -> 9868.0372 | CE37: =G37*$CE$8 -> 958.4419 | CF37: =CD37+CE37 -> 10826.479 | CG37: =CE$8*$H37 -> 528.94086 | CL37: =CJ$8*$H37 -> 0
A38: 13789 | D38: 427725 | E38: 97157 | G38: 172875 | H38: 112831 | M38: =D38+G38+J38 -> 600600 | N38: =L38+M38 -> 600600 | O38: =E38+H38+K38 -> 209988 | W38: =D38*$V$8 -> 217259.64 | X38: =V38+W38 -> 217259.64 | Y38: =V$8*$E38 -> 49350.155 | AB38: =D38*$AA$8 -> 210465.36 | AC38: =AA38+AB38 -> 210465.36 | AD38: =AA$8*$E38 -> 47806.845 | AG38: ='20-Year Acad Revised'!I37+'20-Year Fac Renewal Acad'!I37 -> 123172.52 | AH38: =AF38+AG38 -> 123172.52 | AI38: ='20-Year Acad Revised'!K37+'20-Year Fac Renewal Acad'!K37 -> 80391.487 | AL38: =+BA38+CE38+BF38+BK38+BP38+BU38+AQ38+AV38 -> 49702.483 | AM38: =AK38+AL38 -> 49702.483 | AN38: =+BC38+CG38+BH38+BM38+BR38+BW38+AS38+AX38 -> 32439.513 | AQ38: =G38*$AQ$8 -> 33.982075 | AR38: =AP38+AQ38 -> 33.982075 | AS38: =AQ$8*$H38 -> 22.179213 | AV38: =G38*$AV$8 -> 1587.5206 | AW38: =AU38+AV38 -> 1587.5206 | AX38: =AV$8*$H38 -> 1036.1333 | BF38: =G38*$BF$8 -> 528.14314 | BG38: =BE38+BF38 -> 528.14314 | BH38: =BF$8*$H38 -> 344.70524 | BK38: =G38*$BK$8 -> 36767.965 | BL38: =BJ38+BK38 -> 36767.965 | BM38: =BK$8*$H38 -> 23997.491 | BP38: =G38*$BP$8 -> 9738.6427 | BQ38: =BO38+BP38 -> 9738.6427 | BR38: =BP$8*$H38 -> 6356.1579 | BU38: =G38*$BU$8 -> 235.808 | BV38: =BT38+BU38 -> 235.808 | BW38: =BU$8*$H38 -> 153.90573 | CE38: =G38*$CE$8 -> 810.42134 | CF38: =CD38+CE38 -> 810.42134 | CG38: =CE$8*$H38 -> 528.94086 | CL38: =CJ$8*$H38 -> 0
A39: 13971 | C39: 1615000 | D39: 427725 | E39: 97157 | F39: 2170000 | G39: 172875 | H39: 112831 | L39: =C39+F39+I39 -> 3785000 | M39: =D39+G39+J39 -> 600600 | N39: =L39+M39 -> 4385600 | O39: =E39+H39+K39 -> 209988 | V39: =C39*$V$8 -> 820326.9 | W39: =D39*$V$8 -> 217259.64 | X39: =V39+W39 -> 1037586.5 | Y39: =V$8*$E39 -> 49350.155 | AA39: =C39*$AA$8 -> 794673.1 | AB39: =D39*$AA$8 -> 210465.36 | AC39: =AA39+AB39 -> 1005138.5 | AD39: =AA$8*$E39 -> 47806.845 | AF39: ='20-Year Acad Revised'!H38+'20-Year Fac Renewal Acad'!H38 -> 1546113.4 | AG39: ='20-Year Acad Revised'!I38+'20-Year Fac Renewal Acad'!I38 -> 123172.52 | AH39: =AF39+AG39 -> 1669286 | AI39: ='20-Year Acad Revised'!K38+'20-Year Fac Renewal Acad'!K38 -> 80391.487 | AK39: =+AZ39+CD39+BE39+BJ39+BO39+BT39+AP39+AU39 -> 623886.55 | AL39: =+BA39+CE39+BF39+BK39+BP39+BU39+AQ39+AV39 -> 49702.483 | AM39: =AK39+AL39 -> 673589.03 | AN39: =+BC39+CG39+BH39+BM39+BR39+BW39+AS39+AX39 -> 32439.513 | AP39: =F39*$AQ$8 -> 426.55735 | AQ39: =G39*$AQ$8 -> 33.982075 | AR39: =AP39+AQ39 -> 460.53943 | AS39: =AQ$8*$H39 -> 22.179213 | AU39: =F39*$AV$8 -> 19927.229 | AV39: =G39*$AV$8 -> 1587.5206 | AW39: =AU39+AV39 -> 21514.749 | AX39: =AV$8*$H39 -> 1036.1333 | BE39: =F39*$BF$8 -> 6629.4757 | BF39: =G39*$BF$8 -> 528.14314 | BG39: =BE39+BF39 -> 7157.6189 | BH39: =BF$8*$H39 -> 344.70524 | BJ39: =F39*$BK$8 -> 461527.02 | BK39: =G39*$BK$8 -> 36767.965 | BL39: =BJ39+BK39 -> 498294.99 | BM39: =BK$8*$H39 -> 23997.491 | BO39: =F39*$BP$8 -> 122243.55 | BP39: =G39*$BP$8 -> 9738.6427 | BQ39: =BO39+BP39 -> 131982.2 | BR39: =BP$8*$H39 -> 6356.1579 | BT39: =F39*$BU$8 -> 2959.9616 | BU39: =G39*$BU$8 -> 235.808 | BV39: =BT39+BU39 -> 3195.7696 | BW39: =BU$8*$H39 -> 153.90573 | CD39: =F39*$CE$8 -> 10172.751 | CE39: =G39*$CE$8 -> 810.42134 | CF39: =CD39+CE39 -> 10983.172 | CG39: =CE$8*$H39 -> 528.94086 | CL39: =CJ$8*$H39 -> 0
A40: 14154 | D40: 403500 | E40: 97157 | G40: 140325 | H40: 112831 | M40: =D40+G40+J40 -> 543825 | N40: =L40+M40 -> 543825 | O40: =E40+H40+K40 -> 209988 | W40: =D40*$V$8 -> 204954.74 | X40: =V40+W40 -> 204954.74 | Y40: =V$8*$E40 -> 49350.155 | AB40: =D40*$AA$8 -> 198545.26 | AC40: =AA40+AB40 -> 198545.26 | AD40: =AA$8*$E40 -> 47806.845 | AG40: ='20-Year Acad Revised'!I39+'20-Year Fac Renewal Acad'!I39 -> 99980.816 | AH40: =AF40+AG40 -> 99980.816 | AI40: ='20-Year Acad Revised'!K39+'20-Year Fac Renewal Acad'!K39 -> 80391.487 | AL40: =+BA40+CE40+BF40+BK40+BP40+BU40+AQ40+AV40 -> 40344.184 | AM40: =AK40+AL40 -> 40344.184 | AN40: =+BC40+CG40+BH40+BM40+BR40+BW40+AS40+AX40 -> 32439.513 | AQ40: =G40*$AQ$8 -> 27.583715 | AR40: =AP40+AQ40 -> 27.583715 | AS40: =AQ$8*$H40 -> 22.179213 | AV40: =G40*$AV$8 -> 1288.6122 | AW40: =AU40+AV40 -> 1288.6122 | AX40: =AV$8*$H40 -> 1036.1333 | BF40: =G40*$BF$8 -> 428.701 | BG40: =BE40+BF40 -> 428.701 | BH40: =BF$8*$H40 -> 344.70524 | BK40: =G40*$BK$8 -> 29845.06 | BL40: =BJ40+BK40 -> 29845.06 | BM40: =BK$8*$H40 -> 23997.491 | BP40: =G40*$BP$8 -> 7904.9893 | BQ40: =BO40+BP40 -> 7904.9893 | BR40: =BP$8*$H40 -> 6356.1579 | BU40: =G40*$BU$8 -> 191.40858 | BV40: =BT40+BU40 -> 191.40858 | BW40: =BU$8*$H40 -> 153.90573 | CE40: =G40*$CE$8 -> 657.83008 | CF40: =CD40+CE40 -> 657.83008 | CG40: =CE$8*$H40 -> 528.94086 | CL40: =CJ$8*$H40 -> 0
